BEGIN:VCALENDAR
VERSION:2.0
PRODID:-//Logistikkforeningen - ECPv6.0.1.1//NONSGML v1.0//EN
CALSCALE:GREGORIAN
METHOD:PUBLISH
X-ORIGINAL-URL:https://logistikkforeningen.no
X-WR-CALDESC:Events for Logistikkforeningen
REFRESH-INTERVAL;VALUE=DURATION:PT1H
X-Robots-Tag:noindex
X-PUBLISHED-TTL:PT1H
BEGIN:VTIMEZONE
TZID:Europe/Oslo
BEGIN:DAYLIGHT
TZOFFSETFROM:+0100
TZOFFSETTO:+0200
TZNAME:CEST
DTSTART:20230326T010000
END:DAYLIGHT
BEGIN:STANDARD
TZOFFSETFROM:+0200
TZOFFSETTO:+0100
TZNAME:CET
DTSTART:20231029T010000
END:STANDARD
END:VTIMEZONE
BEGIN:VEVENT
DTSTART;TZID=Europe/Oslo:20230830T083000
DTEND;TZID=Europe/Oslo:20230830T160000
DTSTAMP:20260417T150239
CREATED:20230620T202817Z
LAST-MODIFIED:20230622T183459Z
UID:10000109-1693384200-1693411200@logistikkforeningen.no
SUMMARY:Transport og logistikkdagen 2023 i Bergen
DESCRIPTION:Årets viktigste møteplass for transport\, logistikk og samferdsel. \nÅrets temaer er:\nNy NTP\nKan Bergen bli et ledende grønt logistikknutepunkt?\nGrønn logistikk\nDigitoll\nFull program kommer. \nPåmelding gjøres på Bergen Næringsråd sin nettside.
URL:https://logistikkforeningen.no/arrangement/transport-og-logistikkdagen-2023-i-bergen/
LOCATION:Grand Hotell Terminus\, Zander Kaaes gate 6\, Bergen\, 5015
END:VEVENT
END:VCALENDAR