BEGIN:VCALENDAR
VERSION:2.0
PRODID:-//Logistikkforeningen - ECPv6.0.1.1//NONSGML v1.0//EN
CALSCALE:GREGORIAN
METHOD:PUBLISH
X-ORIGINAL-URL:https://logistikkforeningen.no
X-WR-CALDESC:Events for Logistikkforeningen
REFRESH-INTERVAL;VALUE=DURATION:PT1H
X-Robots-Tag:noindex
X-PUBLISHED-TTL:PT1H
BEGIN:VTIMEZONE
TZID:Europe/Oslo
BEGIN:DAYLIGHT
TZOFFSETFROM:+0100
TZOFFSETTO:+0200
TZNAME:CEST
DTSTART:20210328T010000
END:DAYLIGHT
BEGIN:STANDARD
TZOFFSETFROM:+0200
TZOFFSETTO:+0100
TZNAME:CET
DTSTART:20211031T010000
END:STANDARD
END:VTIMEZONE
BEGIN:VEVENT
DTSTART;TZID=Europe/Oslo:20211118T180000
DTEND;TZID=Europe/Oslo:20211118T220000
DTSTAMP:20260417T150251
CREATED:20211015T085507Z
LAST-MODIFIED:20211015T105504Z
UID:10000094-1637258400-1637272800@logistikkforeningen.no
SUMMARY:Logistikkforeningen Østfold inviterer til LUTEFISKAFTEN 18.November
DESCRIPTION:Endelig er det igjen mulighet for å møtes sosialt\, og vi vil gjerne invitere deg som medlem til Lutefiskaften. Forhåpentligvis kan dette igjen bli vår årlige tradisjon.\n \nSted: Phønix\, Ferjestedsveien 17\, 1606 Fredrikstad\nTid: Torsdag 18. november kl 18:00\n\nPris: kr 550\,- pr pers\,  inkl. velkomstdrikke\, 3 øl og 2 akevitt (eller tilsvarende) og kaffe avec.\nAlternativ til Lutefisk: Hjortefilet \n  \nPåmelding senest 01. november via denne linken: https://logistikkforeningeniostfold.portal.styreweb.com/arrangement/ArrangementSession2?ID=HNQW-CBDX \n  \nFaktura vil bli tilsendt. OBS! Førstemann til mølla.
URL:https://logistikkforeningen.no/arrangement/logistikkforeningen-ostfold-inviterer-til-lutefiskaften-18-november/
LOCATION:Ferjestedsveien 17\, Ferjestedsveien 17\, Fredrikstad\, 1606\, Norge
END:VEVENT
END:VCALENDAR