BEGIN:VCALENDAR
VERSION:2.0
PRODID:-//Logistikkforeningen - ECPv6.0.1.1//NONSGML v1.0//EN
CALSCALE:GREGORIAN
METHOD:PUBLISH
X-ORIGINAL-URL:https://logistikkforeningen.no
X-WR-CALDESC:Events for Logistikkforeningen
REFRESH-INTERVAL;VALUE=DURATION:PT1H
X-Robots-Tag:noindex
X-PUBLISHED-TTL:PT1H
BEGIN:VTIMEZONE
TZID:Europe/Oslo
BEGIN:DAYLIGHT
TZOFFSETFROM:+0100
TZOFFSETTO:+0200
TZNAME:CEST
DTSTART:20200329T010000
END:DAYLIGHT
BEGIN:STANDARD
TZOFFSETFROM:+0200
TZOFFSETTO:+0100
TZNAME:CET
DTSTART:20201025T010000
END:STANDARD
END:VTIMEZONE
BEGIN:VEVENT
DTSTART;VALUE=DATE:20200130
DTEND;VALUE=DATE:20200131
DTSTAMP:20260417T145915
CREATED:20191014T215247Z
LAST-MODIFIED:20191014T215247Z
UID:10000066-1580342400-1580428799@logistikkforeningen.no
SUMMARY:Lexit Group-messe 2020
DESCRIPTION:Lexit Group-messe 2020:\nMed løsninger som forenkler arbeidsflyt og prosesser\nLexit Group-messen 2020 arrangeres 30. januar på Felix Konferansesenter på Aker Brygge! For 6. gang har vi gleden av å inviterer kunder og gode kontakter til vår egen fagmesse hvor vi presenterer spennende produktnyheter og løsninger som forenkler og effektiviserer arbeidsflyt og prosesser i bedriften. \nHold av dagen\, så kommer vi tilbake med flere detaljer og påmeldingsskjema om ikke lenge!
URL:https://logistikkforeningen.no/arrangement/lexit-group-messe-2020/
LOCATION:Felix Konferansesenter\, Bryggetorget 3\, Oslo\, Oslo\, 0250\, Norge
CATEGORIES:Eksterne arrangementer
END:VEVENT
END:VCALENDAR