BEGIN:VCALENDAR
VERSION:2.0
PRODID:-//Logistikkforeningen - ECPv6.0.1.1//NONSGML v1.0//EN
CALSCALE:GREGORIAN
METHOD:PUBLISH
X-WR-CALNAME:Logistikkforeningen
X-ORIGINAL-URL:https://logistikkforeningen.no
X-WR-CALDESC:Events for Logistikkforeningen
REFRESH-INTERVAL;VALUE=DURATION:PT1H
X-Robots-Tag:noindex
X-PUBLISHED-TTL:PT1H
BEGIN:VTIMEZONE
TZID:Europe/Oslo
BEGIN:DAYLIGHT
TZOFFSETFROM:+0100
TZOFFSETTO:+0200
TZNAME:CEST
DTSTART:20190331T010000
END:DAYLIGHT
BEGIN:STANDARD
TZOFFSETFROM:+0200
TZOFFSETTO:+0100
TZNAME:CET
DTSTART:20191027T010000
END:STANDARD
BEGIN:DAYLIGHT
TZOFFSETFROM:+0100
TZOFFSETTO:+0200
TZNAME:CEST
DTSTART:20200329T010000
END:DAYLIGHT
BEGIN:STANDARD
TZOFFSETFROM:+0200
TZOFFSETTO:+0100
TZNAME:CET
DTSTART:20201025T010000
END:STANDARD
END:VTIMEZONE
BEGIN:VEVENT
DTSTART;TZID=Europe/Oslo:20190924T140000
DTEND;TZID=Europe/Oslo:20190924T170000
DTSTAMP:20260426T024755
CREATED:20190910T111633Z
LAST-MODIFIED:20190910T125410Z
UID:10000057-1569333600-1569344400@logistikkforeningen.no
SUMMARY:Dagligvarer på nett
DESCRIPTION:Muhammad Afzal\, logistikkansvarlig i Kolonial.no\, kommer og forteller om selskapets eventyrlige reise i norsk dagligvarebransje. \nArrangementet er gratis for foreningens medlemmer. \nPåmelding skjer til Birger Solvang\, birgsol@online.no. \n  \n  \n 
URL:https://logistikkforeningen.no/arrangement/dagligvarer-pa-nett/
LOCATION:Dovrehallen Restaurant\, Storgata 22\, Oslo\, Oslo\, 0184\, Norge
CATEGORIES:Seniorgruppen
ATTACH;FMTTYPE=image/jpeg:https://logistikkforeningen.no/wp-content/uploads/Kolonial.nos_varebiler_utenfor_hovedlageret-2.jpg
END:VEVENT
BEGIN:VEVENT
DTSTART;TZID=Europe/Oslo:20191029T140000
DTEND;TZID=Europe/Oslo:20191029T170000
DTSTAMP:20260426T024755
CREATED:20190910T111848Z
LAST-MODIFIED:20191008T091755Z
UID:10000058-1572357600-1572368400@logistikkforeningen.no
SUMMARY:Transport i Coop – nå og i fremtiden
DESCRIPTION:Transportsjef Tormod Rønningen i Coop Norge SA forteller om dagligvaregiganten Coops transport. \nArrangementet er gratis for foreningens medlemmer. \nPåmelding skjer til Birger Solvang på SMS til 905 63 794 eller e-post til birger@optilogistikk.no innen mandag 28. oktober. \n  \nEtter foredraget blir det som vanlig middag og nogo attåt. Her er det som vanlig lov til å fortelle gode historier og juge litt sammen med kompiser.\nStedet er Dovrehallen tirsdag den 29. oktober kl. 14.00. Først foredrag\, så middag og så for vi se hva som skjer!
URL:https://logistikkforeningen.no/arrangement/coop-forteller-om-sin-logistikk/
LOCATION:Dovrehallen Restaurant\, Storgata 22\, Oslo\, Oslo\, 0184\, Norge
CATEGORIES:Seniorgruppen
END:VEVENT
BEGIN:VEVENT
DTSTART;TZID=Europe/Oslo:20191126T140000
DTEND;TZID=Europe/Oslo:20191126T233000
DTSTAMP:20260426T024755
CREATED:20191113T115317Z
LAST-MODIFIED:20191113T144920Z
UID:10000073-1574776800-1574811000@logistikkforeningen.no
SUMMARY:Julebord med lutefisk - Seniorgruppen
DESCRIPTION:Seniorgruppen inviterer til årets siste medlemsmøte – med julebord og lutefisk på Dovrehallen i Oslo. \nStyret i Seniorgruppen har den glede å ønske velkommen til lutefisk etter dagens aktuelle tema. Formuesforvalterne Sveinung E. Andersen og Kjetil Olsen holder et spennende innlegg om formuesforsvaltning. \nSted: Dovrehallen som vanlig. \nTid: Tirsdag den 26. nov. kl. 14.00. \nTidspunkt for avslutning? Det bestemmer du!\nGi beskjed om du kommer innen søndag 24. nov. Kjøkkenet vil gjerne vite ca. hvor mange som skal ha lutefisk så gi også beskjed om dette. SMS til 905 63 794 Birger Solvang eller birger@optilogistikk.no \nINVITASJON 26. NOVEMBER kl. 14.00 SENIORGRUPPEN _ LOGISTIKKFORENINGEN \n  \n 
URL:https://logistikkforeningen.no/arrangement/julebord-med-lutefisk-senioravdelingen/
LOCATION:Dovrehallen Restaurant\, Storgata 22\, Oslo\, Oslo\, 0184\, Norge
CATEGORIES:Seniorgruppen
END:VEVENT
BEGIN:VEVENT
DTSTART;TZID=Europe/Oslo:20200128T140000
DTEND;TZID=Europe/Oslo:20200128T190000
DTSTAMP:20260426T024755
CREATED:20200111T080213Z
LAST-MODIFIED:20200111T080758Z
UID:10000075-1580220000-1580238000@logistikkforeningen.no
SUMMARY:Medlemsmøte på Dovrehallen - Seniorgruppen
DESCRIPTION:Seniorgruppen inviterer til årets første medlemsmøte  \nStyret i Seniorgruppen har den glede å ønske velkommen til årets første medlemsmøte. Tema for dagen er: «Morgendagens logistikk\, sett i lys av Oracle». \nInnleder er Elizabeth Ramirez Stenwig\, styreleder i Logistikkforeningen av. Østlandet og Supply Chain & Logistics Account Executive i Oracle. \nDette blir svært spennende. Elizabeth vil også informere om arbeide i Logistikkforeningen og om Kielkonferansen som kommer i mars. \nINVITASJON 28. JANUAR 2020 kl. 14.00 SENIORGRUPPEN _ LOGISTIKKFORENINGEN 2  \nSted: Dovrehallen som vanlig. \nTid: Tirsdag den 28. januar kl. 14.00. \nTidspunkt for avslutning? Det bestemmer du! \nGi beskjed om du kommer innen mandag 27. januar kl. 15. SMS til 905 63 794 Birger Solvang eller birger@optilogistikk.no \nINVITASJON 28. JANUAR 2020 kl. 14.00 SENIORGRUPPEN _ LOGISTIKKFORENINGEN \n  \n 
URL:https://logistikkforeningen.no/arrangement/medlemsmote-januar-2020/
LOCATION:Dovrehallen Restaurant\, Storgata 22\, Oslo\, Oslo\, 0184\, Norge
CATEGORIES:Seniorgruppen
END:VEVENT
BEGIN:VEVENT
DTSTART;TZID=Europe/Oslo:20200225T140000
DTEND;TZID=Europe/Oslo:20200225T190000
DTSTAMP:20260426T024755
CREATED:20200206T151301Z
LAST-MODIFIED:20200206T231618Z
UID:10000079-1582639200-1582657200@logistikkforeningen.no
SUMMARY:Medlemsmøte på Dovrehallen - Seniorgruppen
DESCRIPTION:Seniorgruppen inviterer til medlemsmøte  \nVi som kjenner til logistikk vet at vi fort kan sammenlignes med toppidrettseutøvere. Månedens foredragsholder er Leif Welhaven\, en anerkjent og profilert\nVG-journalist som vil fortelle oss om de spennende og store linjene innen:\n• Åpenhet i toppidretten\n• Football-leaks\n• Doping\n• Gravejournalistikk \n \nSted: Dovrehallen som vanlig. \nTid: Tirsdag den 25. februar kl. 14.00. \nTidspunkt for avslutning? Det bestemmer du! \nGi beskjed om du kommer innen mandag 24. februar kl. 15. SMS til  Arne Turtumøygard på 41 53 14 76 eller e-post til arne.turt@gmail.com. \nSe invitasjon \n  \n 
URL:https://logistikkforeningen.no/arrangement/medlemsmote-februar-2020/
LOCATION:Dovrehallen Restaurant\, Storgata 22\, Oslo\, Oslo\, 0184\, Norge
CATEGORIES:Seniorgruppen
END:VEVENT
END:VCALENDAR