BEGIN:VCALENDAR
VERSION:2.0
PRODID:-//Logistikkforeningen - ECPv6.0.1.1//NONSGML v1.0//EN
CALSCALE:GREGORIAN
METHOD:PUBLISH
X-ORIGINAL-URL:https://logistikkforeningen.no
X-WR-CALDESC:Events for Logistikkforeningen
REFRESH-INTERVAL;VALUE=DURATION:PT1H
X-Robots-Tag:noindex
X-PUBLISHED-TTL:PT1H
BEGIN:VTIMEZONE
TZID:Europe/Oslo
BEGIN:DAYLIGHT
TZOFFSETFROM:+0100
TZOFFSETTO:+0200
TZNAME:CEST
DTSTART:20230326T010000
END:DAYLIGHT
BEGIN:STANDARD
TZOFFSETFROM:+0200
TZOFFSETTO:+0100
TZNAME:CET
DTSTART:20231029T010000
END:STANDARD
END:VTIMEZONE
BEGIN:VEVENT
DTSTART;TZID=Europe/Oslo:20230907T183000
DTEND;TZID=Europe/Oslo:20230907T223000
DTSTAMP:20260417T150349
CREATED:20230816T142728Z
LAST-MODIFIED:20230828T122216Z
UID:10000110-1694111400-1694125800@logistikkforeningen.no
SUMMARY:Temakveld: Grønn logistikk
DESCRIPTION:Logistikkforeningen Rogaland\, Young Logistics og NHO Logistikk & Transport har gleden av å invitere til temakveld med fokus på grønn logistikk med foredragsholdere fra Equinor\, SR Group og NCL. Dette er en ypperlig mulighet til å holde seg oppdatert på hvordan lokale selskaper jobber med å redusere klimautslippene sine og det vil være gode muligheter for nettverksbygging. Det vil serveres tapas under arrangementet. \nGratis deltakelse for medlemsbedrift i Logistikkforeningen Rogaland.  \nPåmeldingsfrist 3. september
URL:https://logistikkforeningen.no/arrangement/temakveld-gronn-logistikk/
LOCATION:Badehusgata 37
CATEGORIES:Landsdekkende,Rogaland
ATTACH;FMTTYPE=image/jpeg:https://logistikkforeningen.no/wp-content/uploads/image001.jpg
END:VEVENT
END:VCALENDAR